Workbook

Sheet Instructions
A1: Southern New Hampshire University
A2: Final Project II
A4: ACC 207 - Cost Accounting - STUDENT WORKBOOK
A7: MILESTONE ONE (Due in Module Five) | E7: FINAL PROJECT (Due in Module Seven)
A12: 1. | F12: 1.
B14: Prepare Sales Budget | G14: Prepare Budgeted Income
B15: Prepare Schedule of | G15: Statement
B16: Expected Cash Collection | G16: Prepare Budgeted Balance
B17: From Sales | G17: Sheet
A19: 2.
B21: Prepare Merchandise
B22: Purchases Budget
B23: Prepare Schedule of Expected
B24: Cash Disbursements for
B25: Merchandise Purchases
A27: 3.
B29: Prepare Selling and Admin
B30: Budget, Including Expected
B31: Cash Disbursements
A33: 4.
B35: Prepare Cash Budget

Sheet Milestone One Instructions
A1: Southern New Hampshire University
A2: College of Continuing Education (COCE)
A4: =+Instructions!A4 -> ACC 207 - Cost Accounting - STUDENT WORKBOOK
A8: INSTRUCTIONS FOR MILESTONE 1 (Due Week 5)
A10: IMPORTANT NOTES:
A12: Make sure to completely review the Milestone One Final Project II Rubric.
A14: Use the data from this milestone and begin work on your final presentation, which is due in Module Seven.
A18: ITEMS TO COMPLETE FOR THIS MILESTONE (Blue Tabs):
A20: GENERAL
A22: You are the accountant tasked with creating the master budget for SRS Educational Supply Company. You have made your budget assumptions (see the red tab labeled Part II Assumptions) and are ready to prepare the following:
A24: SALES BUDGET
A26: Prepare the sales budget by month and in total.
A27: Prepare a schedule of excepted cash collections from sales by month and in total.
A29: PURCHASING BUDGET
A31: Prepare a merchandise purchases budget by month and in total.
... A44: FINANCIAL INFORMATION FOR BUDGETS - SEE PART II ASSUMPTIONS (RED TAB)

Sheet Part II Assumptions
A1: MOST LIKELY NUMBERS AND ASSUMPTIONS
A2: SALES MANAGER PRIVATE INFORMATION | B2: July | C2: August | D2: September | E2: October
A3: Most likely sales | B3: 600000 | C3: 910000 | D3: 475000 | E3: 385000
A7: PURCHASING MANAGER PRIVATE INFORMATION | B7: Part 1 Information
A8: Most likely cost of merchandise as a % of sales | B8: 0.45
A9: Desired ending inventory as a percentage of next month's cost of sales | B9: 0.2
A12: OPERATION MANAGER PRIVATE INFORMATION | B12: Part 1 Information
A13: Most likely shipping expenses as a percent of sales | B13: 0.05
A14: Most likely other expenses as a percent of sales | B14: 0.08
A15: Salaries and wages (per month) | B15: 85000
A16: Most likely advertising costs (per month) | B16: 50000
A17: Most likely insurance costs (per month) | B17: 3000
A18: Depreciation expense (per month) | B18: 25000
A21: FINANCE MANAGER PRIVATE INFORMATION | B21: Part 1 Information
A22: Percent sales collected in month of sale | B22: 0.3
A23: Percent sales collected in month after sale | B23: 0.7
A25: Percent of inventory purchases paid in month of purchase | B25: 0.5
A26: Percent of inventory purchases paid in month after purchase | B26: 0.5
A28: Percent of operating expenses paid in month of purchase | B28: 1
A29: Percent of operating expenses paid in month after purchase | B29: 0
A31: Desired minimum ending cash balance each month | B31: 35000
A32: Borrow in increments of | B32: 1000
A33: Monthly interest rate on borrowings (not compounded) | B33: 0.01
A36: Other planned outlays of cash | B36: =+B2 -> July | C36: =+C2 -> August | D36: =+D2 -> September
A37: Capital expenditures | B37: 200000 | C37: 90000 | D37: 0
A38: Dividends | B38: 50000 | C38: 0 | D38: 0
A42: SRS Educational Supply Company
A43: Balance Sheet
A44: Previous Year End
A45: Assets
A46: Current assets:
A47: Cash | B47: 40000
A48: Accounts receivable | B48: 340000
A49: Inventory | B49: 50000
A50: Prepaid insurance | B50: 18000
A51: Total current assets | C51: =SUM(B47:B50) -> 448000
A52: Buildings and equipment (net) | C52: 860000
A53: TOTAL ASSETS | C53: =SUM(C51:C52) -> 1308000
A55: Liabilities and Equity
A56: Liabilites
...

Sheet Part II Sales Budget
C1: Sales Budget
C4: =+'Part II Assumptions'!B2 -> July | D4: =+'Part II Assumptions'!C2 -> August | E4: =+'Part II Assumptions'!D2 -> September | F4: Quarter
A5: Sales
C7: Schedule of Cash Collections
C8: =+C4 -> July | D8: =+D4 -> August | E8: =+E4 -> September | F8: Quarter
A9: June sales (A/R From Beginning Balance Sheet)
A10: July sales - Collected in Current Month
A11: July sales - Collected in Following Month
A12: August sales - Collected in Current Month
A13: August sales - Collected in Following Month
A14: September sales - Collected in Current Month
A15: Total Expected Cash Collections
A19: Total Sales for the Quarter
A20: A/R at the end of the Quarter (September Sales Still not Collected)

Sheet Part II Purchasing Budget
L1: HOME
C3: Inventory Purchase Budget
D4: =+'Part II Assumptions'!B2 -> July | E4: =+'Part II Assumptions'!C2 -> August | F4: =+'Part II Assumptions'!D2 -> September | G4: =+'Part II Assumptions'!E2 -> October
A5: Sales
A6: Cost of Merchandise as % of Sales
A7: Budgeted Cost of Merchandise Sold
A9: Following Month's COGS
A10: Desired Ending Inventory %
A11: Desired Ending Inventory Dollars
A13: Budgeted Cost of Merchandise Sold
A14: Plus Desired Ending Inventory
A15: Total Inventory Needs
A16: Less Beginning Inventory
A17: Required Purchases
C22: Schedule of Expected Cash Disbursements - Purchases
D23: July | E23: August | F23: September | G23: Quarter
A24: June Purchases (A/P From Balance Sheet)
A25: July Purchases
A26: August Purchases
A27: September Purchases
A28: Total Disbursements
A32: Cost of Merchandise Sold for the Quarter
A33: Ending Inventory at the end of the Quarter
A34: Ending A/P at the end of the Quarter

Sheet Part II Admin Budget
C4: Selling and Administrative Budget
C5: =+'Part II Assumptions'!B2 -> July | D5: =+'Part II Assumptions'!C2 -> August | E5: =+'Part II Assumptions'!D2 -> September | F5: Quarter
A6: Sales
A7: Shipping as a Percentage of Sales
A8: Other Expenses as a Percentage of Sales
A11: Variable Expenses:
A12: Shipping
A13: Other Expenses
A14: Total Variable Expenses
A15: Fixed Expenses:
A16: Salaries and Wages
A17: Advertising
A18: Prepaid Insurance
A19: Depreciation
... A29: Depreciation Expense Recognized During the Quarter

Sheet Part II Cash Budget
C4: Cash Budget
C5: =+'Part II Assumptions'!B2 -> July | D5: =+'Part II Assumptions'!C2 -> August | E5: =+'Part II Assumptions'!D2 -> September | F5: Quarter
A6: Cash Balance: Beginning
A7: Add Cash Collections (From Sales Budget)
A8: Total cash Available
A9: Less Cash Disbursements
A10: For Inventory (From Purchasing Budget)
A11: For Operating Expenses (From Selling and Admin Budget)
A12: For Equipment
A13: For Cash Dividends
A14: For Interest (From Previous Month's Borrowing)
A15: Total Cash Disbursements
A16: Excess (Deficiency) of Cash
A17: Financing
... A55: For the Quarter Ended September 30
A57: Sales | D57: =#REF! -> #REF! | F57: From sales budget
A58: Cost of goods Sold | D58: =#REF! -> #REF!
A59: Gross Margin | D59: =D57-D58 -> #REF!
A60: Selling and administrative expenses
A61: Shipping | C61: =#REF! -> #REF!
A62: Other | C62: =#REF! -> #REF! | F62: From operating budget
A63: Salaries and wages | C63: =#REF! -> #REF!
A64: Advertising | C64: =#REF! -> #REF!
A65: Prepaid insurance | C65: =#REF! -> #REF!
A66: Depreciation | C66: =#REF! -> #REF! | D66: =SUM(C61:C66) -> #REF!
A67: Net operating incomes | D67: =D59-D66 -> #REF!
A68: Less interest expense | D68: =-#REF! -> #REF! | F68: From cash budget
A69: Net income | D69: =D67-D68 -> #REF!
A75: SRS Educational Supply Company
A76: Balance Sheet
A77: September 30,
A79: Assets
A80: Current assets:
A81: Cash | C81: =F21 -> 0 | F81: From cash budget
A82: Accounts receivable | C82: =#REF! -> #REF! | F82: From sales budget - collections
A83: Inventory | C83: =#REF! -> #REF! | F83: From purchase budget
A84: Prepaid insurance | C84: =18000-#REF! -> #REF!
A85: Total current assets | D85: =SUM(C81:C84) -> #REF!
A86: Buildings and equipment (net) | D86: =860000+F12-C66 -> #REF! | F86: Beg equip + purch - depr
A87: Total assets | D87: =SUM(D85:D86) -> #REF!
...

Sheet Instructions Final Project II
A1: Southern New Hampshire University
A2: Final Project II
A4: =+Instructions!A4 -> ACC 207 - Cost Accounting - STUDENT WORKBOOK
A8: INSTRUCTIONS FOR FINAL PROJECT II (Due Module Seven)
A10: IMPORTANT NOTES:
A12: Make sure to completely review the Final Project II Rubric.
A14: Use the data from Milestone One and begin work on your final presentation, which is due in Module Seven.
A18: ITEMS TO COMPLETE FOR FINAL PROJECT II (Purple Tabs):
A20: GENERAL
A22: Use data from Milestone One and the Part II Assumptions tab (the red tab) for your statement preparation.
A24: BUDGETED FINANCIAL STATEMENTS
A26: Prepare a budgeted income statement.
A27: Prepare a budgeted balance sheet.
A30: See Rubric for Presentation Instructions

Sheet Part II Financials
A3: SRS Educational Supplies Company
A4: Budgeted Income Statement
A5: For the Quarter Ended September 30th
A7: Sales
A8: Cost of Goods Sold
A9: Gross Margin
A10: Selling and Administrative Expenses
A11: Shipping
A12: Other
A13: Salaries and Wages
A14: Advertising
A15: Prepaid Insurance
... A45: Total Liability and Equity
